BEGIN:VCALENDAR
VERSION:2.0
PRODID:-//My Community Diary//iCal Event//EN
CALSCALE:GREGORIAN
METHOD:PUBLISH
BEGIN:VEVENT
UID:79bfd23a-3cfa-413e-b403-d7b6a19ab861
DTSTAMP:20260423T140456Z
DTSTART;VALUE=DATE:20260501
DTEND;VALUE=DATE:20260502
SUMMARY:Falling Leaf Festival
DESCRIPTION:The Bendigo Bank Falling Leaf Festival offers the very best of the region - local produce\, food\, arts and craft\, exceptional live music and community spirit - all wrapped up in one fabulous event now stretching over two and a bit days.\n\nMost activities are free\, but some require bookings by visiting the website. \n\nAutumn in the town of Tumut offers one of the most spectacular displays of seasonal colours to be found anywhere in New South Wales.
LOCATION:\, Tumut\, NSW 2720\, NSW\, 2720
RRULE:FREQ=DAILY;INTERVAL=1;UNTIL=20260503T000000Z
END:VEVENT
END:VCALENDAR
