BEGIN:VCALENDAR
VERSION:2.0
PRODID:-//My Community Diary//iCal Event//EN
CALSCALE:GREGORIAN
METHOD:PUBLISH
BEGIN:VEVENT
UID:0d6344e2-d8c5-4760-a8f4-26e630ef2f56
DTSTAMP:20260422T002719Z
DTSTART;VALUE=DATE:20260516
DTEND;VALUE=DATE:20260517
SUMMARY:Batlow CiderFest
DESCRIPTION:Batlow CiderFest is a colourful party celebrating the end of the apple harvest and the best boutique ciders from around Australia and those brewed locally.\n\nGrowers\, producers\, locals and their visitors enjoy some hard-earned downtime after the long months of cultivating\, growing\, picking and packing\, before winter sets in on the Snowy Valleys.\n\nThis is one festival not to be missed. With a stage hosting a range of local talent and market stalls offering boutique ciders\, gourmet food\, locally grown produce\, and tempting homemade treats.\n\nThe atmosphere sizzles with street theatre against a backdrop of trees in glorious autumn colours\, the aroma of food from around the globe and of course\, the sound of fresh cider being poured in clear mountain air stirs the senses.\n\nEntry Cost\nAdult $30  - Early Bird Tickets are $30 for adults and available until 11:55pm Sunday 27 April. After this time\, General Admission tickets ($40) will be available. Tickets at the gate are $50.\n\n17yrs and under are free.\nChild $0  - 17 years and under are free.
LOCATION:\, Pioneer Street\, Batlow\, NSW 2730\, NSW\, 2730
END:VEVENT
END:VCALENDAR
