BEGIN:VCALENDAR
VERSION:2.0
PRODID:-//My Community Diary//iCal Event//EN
CALSCALE:GREGORIAN
METHOD:PUBLISH
BEGIN:VEVENT
UID:63c21b2f-d241-4693-b5a8-caedfa6b73f7
DTSTAMP:20260421T225614Z
DTSTART;VALUE=DATE:20260501
DTEND;VALUE=DATE:20260502
SUMMARY:Australian Celtic Festival
DESCRIPTION:Renowned as the premier Celtic event of New South Wales\, The Australian Celtic Festival is the only festival in Australia to recognise different Celtic nations each year and has the unique atmosphere of being located at the Australian Standing Stones National Celtic Monument in Glen Innes.\n\nIn 2026\, the festival will celebrate its 34th year and highlight the Celtic nation of Scotland.\n\nIn addition to a craicing good lineup of national and international music artists\, the annual program includes pipe bands\, dancers\, markets\, food and beverage stalls\, competitions\, official ceremonies\, live-action performances and re-enactment groups\, children's entertainment\, a host of fringe events around the region\, and so much more!\n\nSet in the New England High Country of Northern NSW\, 4.5 hours' drive from Brisbane and seven hours from Sydney\, vibrant autumn colours provide a picturesque backdrop for exploring and savouring the beauty of Glen Innes Highlands.\n\nThe Australian Celtic Festival is proudly brought to you by Glen Innes Severn Council and supported by the Australian Standing Stones Management Board.
LOCATION:\, Watsons Drive\, Glen Innes\, NSW 2370\, NSW\, 2370
RRULE:FREQ=DAILY;INTERVAL=1;UNTIL=20260503T000000Z
END:VEVENT
END:VCALENDAR
