BEGIN:VCALENDAR
VERSION:2.0
PRODID:-//My Community Diary//iCal Event//EN
CALSCALE:GREGORIAN
METHOD:PUBLISH
BEGIN:VEVENT
UID:ac7fa830-be92-4536-b814-c9de59a69b68
DTSTAMP:20260424T164558Z
DTSTART;TZID=AUS Eastern Standard Time:20190725T190000
DTEND;TZID=AUS Eastern Standard Time:20190725T210000
SUMMARY:Warragul Toastmasters Club session 
DESCRIPTION:Free to visit as our guest\, No obligation to participate if you don't&nbsp\;want to.\n\nOpportunity to meet&nbsp\;people\, learn about communication\, be entertained and informed and enjoy good company\n\nImprove your language skills\, Build your confidence\,&nbsp\;&nbsp\;Learn interview skills. Improve your English &amp\; Language skills\n
LOCATION:Warragul Toastmasters Club\, 88 Smith Street\, Warragul VIC 3820\, VIC\, 3820
RRULE:FREQ=WEEKLY;INTERVAL=1;BYDAY=TH
END:VEVENT
END:VCALENDAR
