BEGIN:VCALENDAR
VERSION:2.0
PRODID:-//My Community Diary//iCal Event//EN
CALSCALE:GREGORIAN
METHOD:PUBLISH
BEGIN:VEVENT
UID:e8aa3298-6612-40af-bc85-db7a4fa8abf0
DTSTAMP:20260424T160845Z
DTSTART;TZID=AUS Eastern Standard Time:20210515T083000
DTEND;TZID=AUS Eastern Standard Time:20210515T130000
SUMMARY:Dingley Village Farmers' Market
DESCRIPTION:We invite you to join us on the THIRD SATURDAY of the month at the Dingley Village Farmers' Market\, Marcus Rd&nbsp\;\n\nSet in the car park and surrounds of the Marcus Rd Reserve\, and the Dingley Village Neighbourhood Centre\, DVFM vendors sit amidst mature trees showcasing fresh and seasonal produce from across Victoria.\n\nPick up your Boomerang Bag from the Boomerang Bag - Dingley Village team before strolling through the market filling it with your market goodies.\n
LOCATION:Dingley Village Neighbourhood Centre Inc\, Dingley Village VIC 3172\, VIC\, 3172
RRULE:FREQ=MONTHLY;INTERVAL=1;BYDAY=3MO;COUNT=10
END:VEVENT
END:VCALENDAR
