BEGIN:VCALENDAR
VERSION:2.0
PRODID:-//My Community Diary//iCal Event//EN
CALSCALE:GREGORIAN
METHOD:PUBLISH
BEGIN:VEVENT
UID:c7a86e73-440d-482d-a7d8-556cfe164ab5
DTSTAMP:20260424T161005Z
DTSTART;TZID=E. Australia Standard Time:20190709T090000
DTEND;TZID=E. Australia Standard Time:20190709T120000
SUMMARY:Exercise Group Class - Charleville
DESCRIPTION:Our exercise physiologist offers group exercise sessions suited to many conditions\, including musculoskeletal\, neurological\, metabolic and cardiorespiratory conditions. These are weekly classes that are tailored to your individual needs and conditions\, within a friendly and supportive group environment. Before commencing in the group\, book in for a one on one consult with our exercise physiologist so they can match you to a group that suits your conditions and ability.\n
LOCATION:Vital Health Charleville\, 81 Galatea Street\, Charleville QLD 4470\, QLD\, 4470
RRULE:FREQ=WEEKLY;INTERVAL=1;BYDAY=TU
END:VEVENT
END:VCALENDAR
