BEGIN:VCALENDAR
VERSION:2.0
PRODID:-//My Community Diary//iCal Event//EN
CALSCALE:GREGORIAN
METHOD:PUBLISH
BEGIN:VEVENT
UID:396a0b6e-921c-4e67-8165-2d5a05190e38
DTSTAMP:20260422T033650Z
DTSTART;VALUE=DATE:20260726
DTEND;VALUE=DATE:20260727
SUMMARY:Wyndham Village Market
DESCRIPTION:The Wyndham Village Market is held in Wyndham Village on the fourth Sunday of every month. Find handmade treasures\, yummy homemade treats and local produce at their friendly all-weather market.\n\nEnjoy great food and Wyndham's own specialty coffee while listening to the local 'music maker of the month'.\n\nAfter the market\, you can take the self-guided heritage walk around town (ask for details at the market).
LOCATION:\, Wyndham\, NSW 2550\, NSW\, 2550
RRULE:FREQ=DAILY;INTERVAL=1;UNTIL=20260728T000000Z
END:VEVENT
END:VCALENDAR
