BEGIN:VCALENDAR
VERSION:2.0
PRODID:-//My Community Diary//iCal Event//EN
CALSCALE:GREGORIAN
METHOD:PUBLISH
BEGIN:VEVENT
UID:c099c4fd-35f8-4f49-b5d2-2cc3fc7b6b95
DTSTAMP:20260422T020208Z
DTSTART;VALUE=DATE:20260925
DTEND;VALUE=DATE:20260926
SUMMARY:The Beaches Farmers Market
DESCRIPTION:Every Friday\, the vibrant Organic Food Markets host a lively community market featuring a diverse mix of stalls and local producers. Held in an open-air setting\, this weekly event is a go-to destination for fresh organic produce\, gourmet treats\, and unique handmade goods.\n\nFrom the early hours\, the market fills with the delicious aroma of hot food from around the world ranging from sizzling street food to hearty vegetarian and vegan dishes. It's the perfect place to grab breakfast or lunch\, with plenty of choices to suit every palate.\n\nBeyond food\, the market also showcases a variety of non-food stalls offering handmade crafts\, eco-friendly home wares\, clothing\, plants\, skincare products\, and more. Many of the stallholders are small businesses and passionate artisans\, giving visitors the chance to shop local and support sustainable\, ethical practices.\n\nWhether you're picking up fresh groceries\, enjoying a tasty meal\, or browsing for something special\, the Friday market by Organic Food Markets is more than a shopping trip it's a weekly tradition that brings the community together. With a relaxed\, welcoming atmosphere and a focus on quality\, creativity\, and sustainability\, this market offers something for everyone.
LOCATION:\, 1472 Pittwater Road\, North Narrabeen\, NSW 2101\, NSW\, 2101
RRULE:FREQ=DAILY;INTERVAL=1;UNTIL=20260927T000000Z
END:VEVENT
END:VCALENDAR
