BEGIN:VCALENDAR
VERSION:2.0
PRODID:-//My Community Diary//iCal Event//EN
CALSCALE:GREGORIAN
METHOD:PUBLISH
BEGIN:VEVENT
UID:2e153d60-2b77-44ca-ac3c-e5d6b505d830
DTSTAMP:20260422T033520Z
DTSTART;VALUE=DATE:20260426
DTEND;VALUE=DATE:20260427
SUMMARY:Mushroom Foraging Workshop - Hampton
DESCRIPTION:Join professional forager Diego Bonetto as he takes you and your family on a forest walk\, uncovering the details of where to look\, when to move and how to harvest edible mushrooms.\n\nPart treasure hunt\, part ecological awakening\, this experience is like no other. The activity has been treasured for generations by the Eastern European and Mediterranean cultures in Australia\, making it a seasonal must-do to share stories and learn recipes.\n\nExpect a cheerful trip\, a learning experience\, an outing in the magical pine forest\, and take home all the mushrooms that you find.\n\nBring suitable clothing and shoes\, water and snacks\, a knife and a basket and your camera. They will provide a thorough tutorial on the what/how/where of mushroom foraging\, you will visit 2/3 different locations\, you will collect mushrooms and they will quality control everyone’s harvest. \n\nYou can take pictures and selfies with the loot. Barbeque tasting of fresh mushrooms fried in oil with garlic and served with parsley and artisan sourdough\, in the forest.\n\nToo many mushrooms to go home with? You will have a box each to bring home your lot!\n\nEntry Cost\nAll tickets $95 
LOCATION:\, Hampton\, NSW 2790\, NSW\, 2790
RRULE:FREQ=DAILY;INTERVAL=1;UNTIL=20260428T000000Z
END:VEVENT
END:VCALENDAR
