BEGIN:VCALENDAR
VERSION:2.0
PRODID:-//My Community Diary//iCal Event//EN
CALSCALE:GREGORIAN
METHOD:PUBLISH
BEGIN:VEVENT
UID:9050790a-b9d8-4ccb-9ec0-7e2365b0ac8f
DTSTAMP:20260421T222451Z
DTSTART;VALUE=DATE:20260621
DTEND;VALUE=DATE:20260622
SUMMARY:Mona Vale Market
DESCRIPTION:Every Sunday\, the market bursts to life with a vibrant mix of sights\, sounds\, and aromas. Featuring a wide variety of traders\, it offers something for everyone from handcrafted goods to freshly prepared hot food. Stalls showcase an eclectic range of non-food items including home ware\, vintage treasures\, clothing\, and artisan products. The atmosphere is relaxed and welcoming\, with local makers and independent sellers creating a lively\, community-focused experience.\n\nIn addition to unique shopping opportunities\, the market serves up a delicious array of hot food. Visitors can enjoy international street food and familiar favourites\, all cooked fresh and ready to eat. Whether grabbing a quick bite or spending the afternoon browsing\, the market invites exploration and connection.\n\nMore than just a shopping destination\, this weekly event is a celebration of local enterprise and creativity. It brings people together in a dynamic open-air setting\, making each Sunday a chance to discover something new.
LOCATION:\, 82 Mona Vale Rd\, Mona Vale\, NSW 2103\, NSW\, 2103
RRULE:FREQ=DAILY;INTERVAL=1;UNTIL=20260623T000000Z
END:VEVENT
END:VCALENDAR
