BEGIN:VCALENDAR
VERSION:2.0
PRODID:-//My Community Diary//iCal Event//EN
CALSCALE:GREGORIAN
METHOD:PUBLISH
BEGIN:VEVENT
UID:3441787b-edcd-4a37-a584-bef7709cf975
DTSTAMP:20260422T015827Z
DTSTART;VALUE=DATE:20260730
DTEND;VALUE=DATE:20260731
SUMMARY:Hornsby Food Markets
DESCRIPTION:Welcome to Hornsby Food Markets!\n\nNestled in the heart of Hornsby\, the Hornsby Food Markets are a vibrant hub where food lovers\, families\, and the local community come together to experience the best of fresh\, quality produce. With a wide variety of stalls offering everything from locally grown fruits and vegetables to gourmet treats\, specialty foods\, and artisanal products\, there's something to satisfy every palate.\n\nAt Hornsby Food Markets\, they pride themselves on providing a diverse range of products\, including organic produce\, fresh-baked goods\, local cheeses\, cakes\, and much more. Whether you're stocking up on essentials or exploring new flavours\, you'll find that every visit is an opportunity to support local farmers\, small businesses\, and sustainable practices.\n\nCome enjoy the sights\, sounds\, and tastes of the market\, all while connecting with the wonderful people who make it all happen. Bring your friends\, family\, and your appetite—Hornsby Food Markets are the perfect place to shop\, taste\, and experience the best the community has to offer!
LOCATION:\, Florence Street\, Hornsby\, NSW 2077\, NSW\, 2077
RRULE:FREQ=DAILY;INTERVAL=1;UNTIL=20260801T000000Z
END:VEVENT
END:VCALENDAR
