BEGIN:VCALENDAR
VERSION:2.0
PRODID:-//My Community Diary//iCal Event//EN
CALSCALE:GREGORIAN
METHOD:PUBLISH
BEGIN:VEVENT
UID:563cbaec-3c06-41b2-9b12-32f83682e717
DTSTAMP:20260422T035827Z
DTSTART;VALUE=DATE:20260425
DTEND;VALUE=DATE:20260426
SUMMARY:Anzac Day Services - Gunnedah
DESCRIPTION:Veterans\, servicemen and women from across generation of armed conflicts as well as the community come together to pay tribute to the sacrifices made by men and women of war in a number of events and services throughout the Gunnedah Shire.\n\nDawn Service will be held at the following locations the Cenotaph Memorial\, 5.30am Conadilly Street\, 5.15am Curlewis at the Cenotaph and 5.30am Tambar Springs.\n\nAnzac Day Service and March Gunnedah from Marquis Street at 10.30am. The official Service is held at the Cenotaph Memorial at 10.45am\, in Breeza at the Breeza Cenotaph at 8.30am.
LOCATION:\, Conadilly Street and Elgin Street\, Gunnedah\, NSW 2380\, NSW\, 2380
END:VEVENT
END:VCALENDAR
