BEGIN:VCALENDAR
VERSION:2.0
PRODID:-//My Community Diary//iCal Event//EN
CALSCALE:GREGORIAN
METHOD:PUBLISH
BEGIN:VEVENT
UID:36f9f350-fea9-4769-9b26-069ff3815fa3
DTSTAMP:20260422T033621Z
DTSTART;VALUE=DATE:20270418
DTEND;VALUE=DATE:20270419
SUMMARY:Sunday Sessions at Never Never Distilling Co.
DESCRIPTION:Sunday Sessions at Never Never Distilling Co. are here again!\n\nKick back\, relax and enjoy award-winning gins with the best view in McLaren Vale while you enjoy live music every Sunday all season long.
LOCATION:\, 56 Field Street\, McLaren Vale\, SA 5171\, SA\, 5171
RRULE:FREQ=DAILY;INTERVAL=1;UNTIL=20270420T000000Z
END:VEVENT
END:VCALENDAR
