BEGIN:VCALENDAR
VERSION:2.0
PRODID:-//My Community Diary//iCal Event//EN
CALSCALE:GREGORIAN
METHOD:PUBLISH
BEGIN:VEVENT
UID:bc21502d-f23f-4d82-a4f5-675b7bca2a58
DTSTAMP:20260423T121850Z
DTSTART;VALUE=DATE:20261122
DTEND;VALUE=DATE:20261123
SUMMARY:Sunday Sessions at Never Never Distilling Co.
DESCRIPTION:Sunday Sessions at Never Never Distilling Co. are here again!\n\nKick back\, relax and enjoy award-winning gins with the best view in McLaren Vale while you enjoy live music every Sunday all season long.
LOCATION:\, 56 Field Street\, McLaren Vale\, SA 5171\, SA\, 5171
RRULE:FREQ=DAILY;INTERVAL=1;UNTIL=20261124T000000Z
END:VEVENT
END:VCALENDAR
