BEGIN:VCALENDAR
VERSION:2.0
PRODID:-//My Community Diary//iCal Event//EN
CALSCALE:GREGORIAN
METHOD:PUBLISH
BEGIN:VEVENT
UID:f1feb8fe-3e30-44ba-a898-5d82f222747e
DTSTAMP:20260422T032812Z
DTSTART;VALUE=DATE:20260802
DTEND;VALUE=DATE:20260803
SUMMARY:Sunday Sessions at Never Never Distilling Co.
DESCRIPTION:Sunday Sessions at Never Never Distilling Co. are here again!\n\nKick back\, relax and enjoy award-winning gins with the best view in McLaren Vale while you enjoy live music every Sunday all season long.
LOCATION:\, 56 Field Street\, McLaren Vale\, SA 5171\, SA\, 5171
RRULE:FREQ=DAILY;INTERVAL=1;UNTIL=20260804T000000Z
END:VEVENT
END:VCALENDAR
