BEGIN:VCALENDAR
VERSION:2.0
PRODID:-//My Community Diary//iCal Event//EN
CALSCALE:GREGORIAN
METHOD:PUBLISH
BEGIN:VEVENT
UID:380b63fa-9564-4f60-898e-42419a0b0ed4
DTSTAMP:20260422T001617Z
DTSTART;VALUE=DATE:20260614
DTEND;VALUE=DATE:20260615
SUMMARY:Sunday Sessions at Never Never Distilling Co.
DESCRIPTION:Sunday Sessions at Never Never Distilling Co. are here again!\n\nKick back\, relax and enjoy award-winning gins with the best view in McLaren Vale while you enjoy live music every Sunday all season long.
LOCATION:\, 56 Field Street\, McLaren Vale\, SA 5171\, SA\, 5171
RRULE:FREQ=DAILY;INTERVAL=1;UNTIL=20260616T000000Z
END:VEVENT
END:VCALENDAR
