BEGIN:VCALENDAR
VERSION:2.0
PRODID:-//My Community Diary//iCal Event//EN
CALSCALE:GREGORIAN
METHOD:PUBLISH
BEGIN:VEVENT
UID:d92c2dfc-7b12-4a4d-a4e7-3daaa29f4607
DTSTAMP:20260421T205423Z
DTSTART;VALUE=DATE:20260607
DTEND;VALUE=DATE:20260608
SUMMARY:Sunday Sessions at Never Never Distilling Co.
DESCRIPTION:Sunday Sessions at Never Never Distilling Co. are here again!\n\nKick back\, relax and enjoy award-winning gins with the best view in McLaren Vale while you enjoy live music every Sunday all season long.
LOCATION:\, 56 Field Street\, McLaren Vale\, SA 5171\, SA\, 5171
RRULE:FREQ=DAILY;INTERVAL=1;UNTIL=20260609T000000Z
END:VEVENT
END:VCALENDAR
