BEGIN:VCALENDAR
VERSION:2.0
PRODID:-//My Community Diary//iCal Event//EN
CALSCALE:GREGORIAN
METHOD:PUBLISH
BEGIN:VEVENT
UID:8cbfba88-6e06-4b83-ac49-9a8e81171232
DTSTAMP:20260421T222452Z
DTSTART;VALUE=DATE:20261115
DTEND;VALUE=DATE:20261116
SUMMARY:Pinot and Pooch
DESCRIPTION:Another fabulous Pinot and Pooch day\, with a vineyard walk at 2 pm (weather permitting). \n\nWarming jaffles on the menu and of course the fabulous Local Produce Platters. It will be a great day out for the whole family and remember\, all dogs visiting Pinot and Pooch receive free dog treats.\n\nIf the sun is out\, they'll have plenty of picnic rugs available. They'll also have lawn games out and little pools for the pooches to splash around in. Booking required.
LOCATION:\, 278 Bird in Hand Road\, Woodside\, SA 5244\, SA\, 5244
RRULE:FREQ=DAILY;INTERVAL=1;UNTIL=20261117T000000Z
END:VEVENT
END:VCALENDAR
