BEGIN:VCALENDAR
VERSION:2.0
PRODID:-//My Community Diary//iCal Event//EN
CALSCALE:GREGORIAN
METHOD:PUBLISH
BEGIN:VEVENT
UID:2d8eac4c-158a-42b2-afdf-94025632b862
DTSTAMP:20260422T021938Z
DTSTART;VALUE=DATE:20260516
DTEND;VALUE=DATE:20260517
SUMMARY:Coriole Music Festival
DESCRIPTION:"A weekend of fine chamber music" held at Coriole Vineyards\, McLaren Vale\, South Australia.\n\nThe Coriole Music Festival is an immersive two days of beautiful chamber music\, with meals and wine included. There are four concerts on Saturday and two on Sunday. \n\nThe weekend features two meals on the Saturday and a lunch on the Sunday\, where performers and audience can mix while enjoying fine food by chef Patricia Streckfuss and superb Coriole wines.\n\nPresented and managed by the not-for-profit McLaren Vale Music Festivals Association Inc.\n\nEntry Cost\nAll tickets $315  - Weekend packages and individual day packages available. Tickets are not available separately to individual concerts\, and the meals and drinks are all inclusive.
LOCATION:\, 79 Chaffeys Road\, McLaren Vale\, SA 5171\, SA\, 5171
RRULE:FREQ=DAILY;INTERVAL=1;UNTIL=20260518T000000Z
END:VEVENT
END:VCALENDAR
