BEGIN:VCALENDAR
VERSION:2.0
PRODID:-//My Community Diary//iCal Event//EN
CALSCALE:GREGORIAN
METHOD:PUBLISH
BEGIN:VEVENT
UID:c9e2010b-17f7-41f9-828c-1e90e7e6d05d
DTSTAMP:20260422T020103Z
DTSTART;VALUE=DATE:20260501
DTEND;VALUE=DATE:20260502
SUMMARY:The Traveling Wilburys Collection - Albury
DESCRIPTION:Harrison. Petty. Orbison. Dylan. Lynne.\n\nThe Traveling Wilburys. Four years\, two mega albums\, a slew of hits\, and a Grammy.\n\nBut the one thing they never did was tour. That is... until now.\n\nThe Traveling Wilburys Collection bring together the collective talents\, excitement\, and magic that the original had to offer. \n\nLive\, on stage\, like never before.\n\nFeaturing all the hits of the Traveling Wilburys plus the classics from each individual artist – Harrison\, The Beatles\, Petty\, The Heartbreakers\, Lynne\, ELO\, Orbison\, and Dylan.\n\nJoin a night of fun\, nostalgia\, and unforgettable hits!
LOCATION:\, 525 Swift Street\, Albury NSW\, Australia\, Albury\, NSW 2640\, NSW\, 2640
END:VEVENT
END:VCALENDAR
