BEGIN:VCALENDAR
VERSION:2.0
PRODID:-//My Community Diary//iCal Event//EN
CALSCALE:GREGORIAN
METHOD:PUBLISH
BEGIN:VEVENT
UID:f2073ecd-bd67-4210-be9c-4bf7f9c601db
DTSTAMP:20260422T005114Z
DTSTART;VALUE=DATE:20260705
DTEND;VALUE=DATE:20260706
SUMMARY:Live Music Sundays at Mountain Ridge Wines
DESCRIPTION:At Mountain Ridge\, they love a reason to gather\, so come sip\, savour and share with them while being entertained by a variety of local musicians on the first Sunday of every month. While you relax and unwind taking in the views over Coolangatta\, Saddleback and Cambewarra.\nCheck out the Mountain Ridge Wines website\, Instagram and Facebook pages to view upcoming music dates and artists.
LOCATION:\, 11 Coolangatta Road\, Coolangatta\, NSW 2535\, NSW\, 2535
RRULE:FREQ=DAILY;INTERVAL=1;UNTIL=20260707T000000Z
END:VEVENT
END:VCALENDAR
