BEGIN:VCALENDAR
VERSION:2.0
PRODID:-//My Community Diary//iCal Event//EN
CALSCALE:GREGORIAN
METHOD:PUBLISH
BEGIN:VEVENT
UID:d69375ca-f330-4237-bfd9-0cb00efff9a9
DTSTAMP:20260421T224418Z
DTSTART;VALUE=DATE:20260621
DTEND;VALUE=DATE:20260622
SUMMARY:Kiama Seaside Markets
DESCRIPTION:Discover the charm of the Kiama Seaside Markets\, a must-visit experience for tourists exploring the stunning NSW South Coast. Held on the third Sunday of each month at beautiful Black Beach Reserve\, these vibrant open-air markets are set against sweeping ocean views and the iconic Kiama Lighthouse.\n\nStroll through over 150 stalls brimming with locally made crafts\, boutique fashion\, art\, jewellery\, homewares\, and gourmet treats. Meet the makers\, sample delicious food\, and soak in the relaxed coastal atmosphere. Whether you're looking for unique souvenirs\, handmade gifts\, or just a great coffee by the sea\, the markets offer something for everyone.\n\nLocated just minutes from Kiama's cafes\, beaches\, and the famous Blowhole\, it's the perfect day out for couples\, families\, and weekend wanderers. Come and enjoy live music\, fresh sea breezes\, and the friendly community vibe that makes the Kiama Seaside Markets a true highlight of the region.
LOCATION:\, 61 Terralong Street\, Kiama\, NSW 2533\, NSW\, 2533
RRULE:FREQ=DAILY;INTERVAL=1;UNTIL=20260623T000000Z
END:VEVENT
END:VCALENDAR
