BEGIN:VCALENDAR
VERSION:2.0
PRODID:-//My Community Diary//iCal Event//EN
CALSCALE:GREGORIAN
METHOD:PUBLISH
BEGIN:VEVENT
UID:1ba51e69-f53d-4c96-bcbc-ed7c6a42d19f
DTSTAMP:20260422T002951Z
DTSTART;VALUE=DATE:20260829
DTEND;VALUE=DATE:20260830
SUMMARY:Jervis Bay Arts Trail
DESCRIPTION:Step inside the artists' studios of the Jervis Bay Arts Trail on the last Saturday of each month. Meet the artists\, learn about their unique processes and buy direct. \n\nThe artists work across many styles and mediums – oils and watercolour\, photography and textiles\, collage and drawings\, landscapes\, abstracts\, sculpture – there's something for every taste along the Trail. Check the website to see who is open and where to find them\, plus details of group exhibitions\, pop-up art shops and special events. \n\nThe Jervis Bay Arts Trail presents a perfect opportunity to connect with over a dozen artists in the region\, as they open their working studios to offer visitors insight into their creativity\, materials\, inspiration and works-in-progress.
LOCATION:\, https\, Vincentia\, NSW 2540\, NSW\, 2540
RRULE:FREQ=DAILY;INTERVAL=1;UNTIL=20260831T000000Z
END:VEVENT
END:VCALENDAR
