BEGIN:VCALENDAR
VERSION:2.0
PRODID:-//My Community Diary//iCal Event//EN
CALSCALE:GREGORIAN
METHOD:PUBLISH
BEGIN:VEVENT
UID:6bdf1ad9-7215-4227-b173-bab75633ac84
DTSTAMP:20260422T022750Z
DTSTART;VALUE=DATE:20261018
DTEND;VALUE=DATE:20261019
SUMMARY:IRONMAN 70.3 Port Macquarie
DESCRIPTION:The superb race offers a unique challenge set along the Port Macquarie region's spectacular coastline. This is the home of the Oceania TriClub championship and will see you and your mates swim in the calm waters of Hastings river\, ride along the Pacific Ocean\, and run in the heart of Port Macquarie with the crowds cheering your name.
LOCATION:\, Port Macquarie\, NSW 2444\, NSW\, 2444
END:VEVENT
END:VCALENDAR
