BEGIN:VCALENDAR
VERSION:2.0
PRODID:-//My Community Diary//iCal Event//EN
CALSCALE:GREGORIAN
METHOD:PUBLISH
BEGIN:VEVENT
UID:9250bae7-bb79-4434-a76a-eb2d31048f54
DTSTAMP:20260422T003025Z
DTSTART;VALUE=DATE:20260508
DTEND;VALUE=DATE:20260509
SUMMARY:Gloucester Farmers Market
DESCRIPTION:On the second Saturday of each month\, get fresh with Gloucester Farmers Market. Discover Gloucester’s fresh food treasure and stock up on foods that will give you energy\, vitality and a twinkle in your eye. \n\nThis is just like how country markets used to be\, with locally grown fresh fruit and vegetables\, baked goods\, cheeses\, eggs\, honey\, olives and olive oils\, wines\, cut flowers\, soaps and all manner of artisan-made local produce. \n\nMarkets like these are changing the way people look at fresh food\, and you can’t buy any fresher\, so get in early for the best of the best.
LOCATION:\, Denison Street\, Gloucester\, NSW 2422\, NSW\, 2422
RRULE:FREQ=DAILY;INTERVAL=1;UNTIL=20260510T000000Z
END:VEVENT
END:VCALENDAR
