BEGIN:VCALENDAR
VERSION:2.0
PRODID:-//My Community Diary//iCal Event//EN
CALSCALE:GREGORIAN
METHOD:PUBLISH
BEGIN:VEVENT
UID:00946e3a-c8ea-4a78-9301-cb2b79098276
DTSTAMP:20260422T033622Z
DTSTART;VALUE=DATE:20260502
DTEND;VALUE=DATE:20260503
SUMMARY:Baerami Bush Dance
DESCRIPTION:Baerami Bush Dance is a truly authentic and fun-filled bush dance at the beautifully timber-lined Baerami Hall in the Upper Hunter Valley\, featuring traditional acoustic music performed by musicians from the Hunter Valley.\n\nDances are explained\, and you don't need a partner. The event is family-friendly.\n\nBring your own dinner and drinks\, and a supper to share. Camp at the hall\, or stay at nearby accommodation. A well-equipped kitchen is available to prepare your food\, and there is space to sit for dinner inside the hall.\n\nA ticketing website will be provided closer to the dance.\n\nEntry Cost\nConcession $20  - Camping fee included in price.\nAdult $25  - Camping included in the ticket price\nStudent $10  - School students\nCamping included in the ticket price\nChild $0  - Children five and under are free
LOCATION:\, 1361 Bylong Valley Way\, Baerami\, NSW 2333\, NSW\, 2333
END:VEVENT
END:VCALENDAR
