BEGIN:VCALENDAR
VERSION:2.0
PRODID:-//My Community Diary//iCal Event//EN
CALSCALE:GREGORIAN
METHOD:PUBLISH
BEGIN:VEVENT
UID:aec67a3e-5b28-45cc-a6c4-f7fae4e89587
DTSTAMP:20260422T071446Z
DTSTART;VALUE=DATE:20260503
DTEND;VALUE=DATE:20260504
SUMMARY:Adelaide Hills Garden Affair
DESCRIPTION:This  is a delightful event for gardening enthusiasts set in the historic gardens of Stangate House in Aldgate S.A.\, The biennial\, ticketed event coincides with the spectacular and popular autumn colours of the Adelaide Hills bringing together the gardening community to share new knowledge and offer something for everyone : connecting gardeners and plant lovers with Gardening Clubs\, Plant Societies\, Land Care organisations and Gardening or Horticulturally related Businesses. \n\nA perfect opportunity to take a drive through the Adelaide Hills at this beautiful time of the year\;  there will be something of interest for the whole family.\n\nWith around 70 stalls\, representing Garden Clubs\, Plant Societies and  Specialist Nurseries alongside garden suppliers\, garden décor\, art\, new gardening techniques\, tools and much more\, the day provides something for everyone.  The event delivers everything promised including coffee and food\, specialist gardening talks and demonstrations and the popular 'I Spy' detective game for young children\, a face painter and garden related activities .\n\nEntry Cost\nAdult $12  - Children under 12 are free\nEarly Bird price $12\nAfternoon discounted- 1:00 - 3:30pm $12\nGroup bookings 10 or more are available
LOCATION:\, 3 Edgeware Road\, Aldgate\, SA 5154\, SA\, 5154
END:VEVENT
END:VCALENDAR
