BEGIN:VCALENDAR
VERSION:2.0
PRODID:-//My Community Diary//iCal Event//EN
CALSCALE:GREGORIAN
METHOD:PUBLISH
BEGIN:VEVENT
UID:1bff1a95-34b1-4e3f-8451-b713eb0f0082
DTSTAMP:20260422T015655Z
DTSTART;VALUE=DATE:20260503
DTEND;VALUE=DATE:20260504
SUMMARY:Caloundra Street Fair
DESCRIPTION:Located in  the heart of downtown Caloundra\, the Sunshine Coast's largest street market is surrounded by the colour of Caloundra's shopping and café precinct and attracts thousands of marketgoers each Sunday. With more than 120 unique stalls\, the entire family can immerse themselves in some of the region's best street food\, coffee\, fresh produce and delicious sweet treats while they peruse the locally crafted homewares\, art\, flowers and plants.\n\nThe Street Fair's soundtrack is supplied by local artists who perform live each week. The relaxed and groovy tunes will have you dancing in and out of stalls.\n\nWith kids' activities including a balloon artist\, roaming entertainment\, and occasion themes\, the Street Fair has a colourful atmosphere and is the perfect family day out!\n\nWe will see you next and every Sunday at the markets locals love.
LOCATION:\, Bulcock Street\, Caloundra\, QLD 4551\, QLD\, 4551
RRULE:FREQ=DAILY;INTERVAL=1;UNTIL=20260505T000000Z
END:VEVENT
END:VCALENDAR
