BEGIN:VCALENDAR
VERSION:2.0
PRODID:-//My Community Diary//iCal Event//EN
CALSCALE:GREGORIAN
METHOD:PUBLISH
BEGIN:VEVENT
UID:713ca4f4-0d00-4037-8990-ba3a12029650
DTSTAMP:20260424T154952Z
DTSTART;TZID=E. Australia Standard Time:20190710T080000
DTEND;TZID=E. Australia Standard Time:20190710T083000
SUMMARY:Strength
DESCRIPTION:Strength\n
LOCATION:Police-Citizens Youth Club (PCYC) - Gold Coast\, 180 Monaco Street\, Broadbeach Waters QLD 4218\, QLD\, 4218
RRULE:FREQ=WEEKLY;INTERVAL=1;BYDAY=MO,WE,TH
END:VEVENT
END:VCALENDAR
