BEGIN:VCALENDAR
VERSION:2.0
PRODID:-//My Community Diary//iCal Event//EN
CALSCALE:GREGORIAN
METHOD:PUBLISH
BEGIN:VEVENT
UID:55af0123-a175-4b84-90ae-a0fa90f26c44
DTSTAMP:20260424T160020Z
DTSTART;TZID=E. Australia Standard Time:20190710T054500
DTEND;TZID=E. Australia Standard Time:20190710T064500
SUMMARY:Spin
DESCRIPTION:Spin\n
LOCATION:Police-Citizens Youth Club (PCYC) - Gold Coast\, 180 Monaco Street\, Broadbeach Waters QLD 4218\, QLD\, 4218
RRULE:FREQ=WEEKLY;INTERVAL=1;BYDAY=TU,WE,TH
END:VEVENT
END:VCALENDAR
