BEGIN:VCALENDAR
VERSION:2.0
PRODID:-//My Community Diary//iCal Event//EN
CALSCALE:GREGORIAN
METHOD:PUBLISH
BEGIN:VEVENT
UID:b0261806-287d-42db-bc65-b69abf669b21
DTSTAMP:20260424T155947Z
DTSTART;TZID=E. Australia Standard Time:20190716T091500
DTEND;TZID=E. Australia Standard Time:20190716T101500
SUMMARY:Pilates Barre
DESCRIPTION:Pilates Barre\n
LOCATION:Police-Citizens Youth Club (PCYC) - Gold Coast\, 180 Monaco Street\, Broadbeach Waters QLD 4218\, QLD\, 4218
RRULE:FREQ=WEEKLY;INTERVAL=1;BYDAY=TU
END:VEVENT
END:VCALENDAR
