BEGIN:VCALENDAR
VERSION:2.0
PRODID:-//My Community Diary//iCal Event//EN
CALSCALE:GREGORIAN
METHOD:PUBLISH
BEGIN:VEVENT
UID:9ba61419-7fc5-4328-955a-02f8c62210ce
DTSTAMP:20260424T155900Z
DTSTART;TZID=E. Australia Standard Time:20190713T081500
DTEND;TZID=E. Australia Standard Time:20190713T091500
SUMMARY:Pilates
DESCRIPTION:Pilates\n
LOCATION:Police-Citizens Youth Club (PCYC) - Gold Coast\, 180 Monaco Street\, Broadbeach Waters QLD 4218\, QLD\, 4218
RRULE:FREQ=WEEKLY;INTERVAL=1;BYDAY=SA
END:VEVENT
END:VCALENDAR
