BEGIN:VCALENDAR
VERSION:2.0
PRODID:-//My Community Diary//iCal Event//EN
CALSCALE:GREGORIAN
METHOD:PUBLISH
BEGIN:VEVENT
UID:3688689a-a7dd-4b7c-af53-99edba904dc7
DTSTAMP:20260424T155946Z
DTSTART;TZID=E. Australia Standard Time:20190716T060000
DTEND;TZID=E. Australia Standard Time:20190716T070000
SUMMARY:Pilates
DESCRIPTION:Pilates\n
LOCATION:Police-Citizens Youth Club (PCYC) - Gold Coast\, 180 Monaco Street\, Broadbeach Waters QLD 4218\, QLD\, 4218
RRULE:FREQ=WEEKLY;INTERVAL=1;BYDAY=TU
END:VEVENT
END:VCALENDAR
