BEGIN:VCALENDAR
VERSION:2.0
PRODID:-//My Community Diary//iCal Event//EN
CALSCALE:GREGORIAN
METHOD:PUBLISH
BEGIN:VEVENT
UID:769f574f-b1c4-4381-b992-694f83324191
DTSTAMP:20260424T160627Z
DTSTART;TZID=E. Australia Standard Time:20190715T080000
DTEND;TZID=E. Australia Standard Time:20190715T090000
SUMMARY:Mature & Motivated
DESCRIPTION:Mature &amp\; Motivated\n
LOCATION:Police-Citizens Youth Club (PCYC) - Gold Coast\, 180 Monaco Street\, Broadbeach Waters QLD 4218\, QLD\, 4218
RRULE:FREQ=WEEKLY;INTERVAL=1;BYDAY=MO,WE,FR
END:VEVENT
END:VCALENDAR
