BEGIN:VCALENDAR
VERSION:2.0
PRODID:-//My Community Diary//iCal Event//EN
CALSCALE:GREGORIAN
METHOD:PUBLISH
BEGIN:VEVENT
UID:77d01af4-8aab-418a-96af-0cb9806b21cb
DTSTAMP:20260424T160627Z
DTSTART;TZID=E. Australia Standard Time:20190713T080000
DTEND;TZID=E. Australia Standard Time:20190713T090000
SUMMARY:Boxercise
DESCRIPTION:Boxing is not only a fantastic cardio workout but also a lot of fun! Come and join our group Boxercise classes to learn to box\, keep fit and have fun while you're at it!\n
LOCATION:Police-Citizens Youth Club (PCYC) - Gold Coast\, 180 Monaco Street\, Broadbeach Waters QLD 4218\, QLD\, 4218
RRULE:FREQ=WEEKLY;INTERVAL=1;BYDAY=SA
END:VEVENT
END:VCALENDAR
