BEGIN:VCALENDAR
VERSION:2.0
PRODID:-//My Community Diary//iCal Event//EN
CALSCALE:GREGORIAN
METHOD:PUBLISH
BEGIN:VEVENT
UID:bc468a31-5dce-4407-b0c1-4195b036c732
DTSTAMP:20260424T160637Z
DTSTART;TZID=E. Australia Standard Time:20190715T091500
DTEND;TZID=E. Australia Standard Time:20190715T101500
SUMMARY:Boxercise
DESCRIPTION:Boxing is not only a fantastic cardio workout but also a lot of fun! Come and join our group Boxercise classes to learn to box\, keep fit and have fun while you're at it!\n
LOCATION:Police-Citizens Youth Club (PCYC) - Gold Coast\, 180 Monaco Street\, Broadbeach Waters QLD 4218\, QLD\, 4218
RRULE:FREQ=WEEKLY;INTERVAL=1;BYDAY=MO,WE,FR
END:VEVENT
END:VCALENDAR
