BEGIN:VCALENDAR
VERSION:2.0
PRODID:-//My Community Diary//iCal Event//EN
CALSCALE:GREGORIAN
METHOD:PUBLISH
BEGIN:VEVENT
UID:e888cb98-314a-47a6-85b5-8db990d3afce
DTSTAMP:20260422T005006Z
DTSTART;VALUE=DATE:20260501
DTEND;VALUE=DATE:20260502
SUMMARY:Wagga Gold Cup Carnival
DESCRIPTION:The Murrumbidgee Turf Club is proud to present the 2026 Wagga Gold Cup.\n\nTickets will be on sale January 2026. Please keep an eye on their website and Facebook for details.
LOCATION:\, 142 Travers Street\, Wagga Wagga\, NSW 2650\, NSW\, 2650
RRULE:FREQ=DAILY;INTERVAL=1;UNTIL=20260503T000000Z
END:VEVENT
END:VCALENDAR
