BEGIN:VCALENDAR
VERSION:2.0
PRODID:-//My Community Diary//iCal Event//EN
CALSCALE:GREGORIAN
METHOD:PUBLISH
BEGIN:VEVENT
UID:ba066def-3e55-463b-925d-d96766f42245
DTSTAMP:20260422T004954Z
DTSTART;VALUE=DATE:20260430
DTEND;VALUE=DATE:20260501
SUMMARY:Wagga Gold Cup Carnival
DESCRIPTION:The Murrumbidgee Turf Club is proud to present the 2026 Wagga Gold Cup.\n\nTickets will be on sale January 2026. Please keep an eye on their website and Facebook for details.
LOCATION:\, 142 Travers Street\, Wagga Wagga\, NSW 2650\, NSW\, 2650
RRULE:FREQ=DAILY;INTERVAL=1;UNTIL=20260502T000000Z
END:VEVENT
END:VCALENDAR
