BEGIN:VCALENDAR
VERSION:2.0
PRODID:-//My Community Diary//iCal Event//EN
CALSCALE:GREGORIAN
METHOD:PUBLISH
BEGIN:VEVENT
UID:46d955b7-00d3-4a14-afcf-1261927c6598
DTSTAMP:20260421T222300Z
DTSTART;VALUE=DATE:20260503
DTEND;VALUE=DATE:20260504
SUMMARY:Tocal Field Days
DESCRIPTION:The Tocal Field Days are the premier agricultural field day event in the Hunter Region\, held every year on the first weekend in May.  Located on the grounds of the Tocal Agricultural College in Paterson\, just 10 minutes from Maitland and one hour from Newcastle.\n\nVisitors include people on the land who are looking for the latest innovations\, hobby farmers and enthusiasts and people just looking for a great day out.\n\nWhether you enjoy piglet races\, great food and wine\, fencing demonstrations or the massive machinery that makes the world go around you can be sure the event will not disappoint. The Exhibitors bring to you all the latest in farming techniques and technologies from solar energy to fencing construction.\n\nTocal Field Days is a non profit incorporated association with three part-time staff members and an enthusiastic band of volunteers who look forward to welcoming you to the event.\n\nEntry Cost\nAdult $16  - Early Bird Friday Only $16.00 (Beat the crowds and come and see us Friday and receive the discount rate.)\nGeneral Admission Adult - $20.00 \nChildren $6.00\nChildren 4 years and under free of charge.\nCompanion Card accepted. Please produce at entry to redeem offer.\nMore details available at www.tocalfielddays.com
LOCATION:\, 815 Tocal Road\, Paterson\, NSW 2421\, NSW\, 2421
RRULE:FREQ=DAILY;INTERVAL=1;UNTIL=20260505T000000Z
END:VEVENT
END:VCALENDAR
