BEGIN:VCALENDAR
VERSION:2.0
PRODID:-//My Community Diary//iCal Event//EN
CALSCALE:GREGORIAN
METHOD:PUBLISH
BEGIN:VEVENT
UID:5b18ccd3-a591-4fba-928b-23861b407300
DTSTAMP:20260424T164410Z
DTSTART;TZID=W. Australia Standard Time:20190712T130000
DTEND;TZID=W. Australia Standard Time:20190712T160000
SUMMARY:Sewing & Shibori
DESCRIPTION:Don't miss the opportunity to gain skills in fabric printing. These workshops are suited to all levels of experience and skills. Start that project that you have been wanting to do but never got around to doing it!\n\n$10 fee\, all materials included.\n\nDon't forget to book your ticket via Eventbrite!\nhttps://www.eventbrite.com.au/e/sewing-shibori-tickets-64962489555\n
LOCATION:The Hub 6163\, 1 Starling Street\, Hamilton Hill WA 6163\, WA\, 6163
RRULE:FREQ=WEEKLY;INTERVAL=1;BYDAY=FR
END:VEVENT
END:VCALENDAR
