BEGIN:VCALENDAR
VERSION:2.0
PRODID:-//My Community Diary//iCal Event//EN
CALSCALE:GREGORIAN
METHOD:PUBLISH
BEGIN:VEVENT
UID:ae3fe439-baea-4307-be06-3ed7542b262a
DTSTAMP:20260424T154950Z
DTSTART;TZID=E. Australia Standard Time:20190705T180000
DTEND;TZID=E. Australia Standard Time:20190705T230000
SUMMARY:Friday Night Raffles
DESCRIPTION:Join us at Nerang Bowls Club every Friday night for raffles &amp\; jackpot members draws.\n\nMembers can use our Courtesy Bus if you live within the Nerang area.\n
LOCATION:Nerang Community Bowls Club Inc\, 20 Cayuga Street Nerang QLD 4211\, QLD\, 4211
RRULE:FREQ=WEEKLY;INTERVAL=1;BYDAY=FR
END:VEVENT
END:VCALENDAR
