BEGIN:VCALENDAR
VERSION:2.0
PRODID:-//My Community Diary//iCal Event//EN
CALSCALE:GREGORIAN
METHOD:PUBLISH
BEGIN:VEVENT
UID:91d13011-99f5-46f8-bab4-88c09d5216ff
DTSTAMP:20260421T224254Z
DTSTART;VALUE=DATE:20260428
DTEND;VALUE=DATE:20260429
SUMMARY:Country Racing
DESCRIPTION:Country Racing SA is where the thrill of the track meets the heart of the community. \n\nWith stunning regional backdrops\, passionate locals and unforgettable race day experiences\, it's more than just racing—it's a celebration of country life\, connection and good times.
LOCATION:\, 240 Morphett Road\, Adelaide Airport\, SA 5950\, SA\, 5950
RRULE:FREQ=DAILY;INTERVAL=1;UNTIL=20260430T000000Z
END:VEVENT
END:VCALENDAR
