BEGIN:VCALENDAR
VERSION:2.0
PRODID:-//My Community Diary//iCal Event//EN
CALSCALE:GREGORIAN
METHOD:PUBLISH
BEGIN:VEVENT
UID:92fe0f2e-4cea-49c9-863e-3c8bbfadb5d3
DTSTAMP:20260424T154958Z
DTSTART:20220813T150000Z
DTEND:20220813T200000Z
SUMMARY:Ripley Markets
DESCRIPTION:Second Saturday of every month! 3pm to 8pm.\n?\nThere is nothing they love more than browsing the local market on the weekend\; buzzing with life\, handcrafted goodies and the mouth-watering aroma of street food to tempt your taste buds. So\, what better way than to bring the market to town?\n\n?Over 60 stalls featuring live music\, delicious food stalls from all around the world\, handmade homewares\, fantastic fashion and farm animals\, jumping castle and even a circus school to boot.\n\nSplash'N'Play:\nKids of all ages will love the cool adventures and boundless fun of Providence's adventure park.\n?\nThey're all about the community. Its all pooch\, pram and wheelchair friendly for the whole neighbourhood to enjoy.
LOCATION:\, 6 Amity Way\, South Ripley\, QLD 4306\, QLD\, 4306
RRULE:FREQ=MONTHLY;INTERVAL=1;BYDAY=3MO;UNTIL=20240714T000000Z
END:VEVENT
END:VCALENDAR
