BEGIN:VCALENDAR
VERSION:2.0
PRODID:-//My Community Diary//iCal Event//EN
CALSCALE:GREGORIAN
METHOD:PUBLISH
BEGIN:VEVENT
UID:a54fb90b-2fbf-482c-a527-564666cea223
DTSTAMP:20260424T155946Z
DTSTART:20240704T000000Z
DTEND:20240704T235959Z
SUMMARY:Spark Ipswich
DESCRIPTION:Spark Ipswich is the town's ultimate arts and cultural festival\, spanning 11 days\, the city-wide event celebrates the people\, places\, arts and culture of Ipswich.\n\nThe 2023 program delivers a fresh program of festival content. Music\, comedy\, arts\, exhibitions\, circus\, projection\, culture\, technology\, collaboration and discussion will take over the city.\n\nTo view the festival program\, head to the website.
LOCATION:\, Various locations\, Ipswich\, QLD 4305\, QLD\, 4305
RRULE:FREQ=DAILY;INTERVAL=1;UNTIL=20240715T000000Z
END:VEVENT
END:VCALENDAR
