BEGIN:VCALENDAR
VERSION:2.0
PRODID:-//My Community Diary//iCal Event//EN
CALSCALE:GREGORIAN
METHOD:PUBLISH
BEGIN:VEVENT
UID:348baacd-5c78-4e66-86a1-9a0e7cdecf7c
DTSTAMP:20260424T160021Z
DTSTART:20240713T090000Z
DTEND:20240713T180000Z
SUMMARY:Brisbane Open House
DESCRIPTION:Save the date for Brisbane Open House 2024! \n\nJoin them for one weekend only as they give you the keys to unlock your city\, opening the doors to buildings\, spaces\, structures and places across Brisbane\, including some of the city’s most iconic buildings\, their most popular previous venues\, as well as some of the city's newest projects and best-kept secrets. \n\nThis year’s program will feature a full calendar of events - visit Brisbane Open House website and sign up to their newsletter to be the first to know.
LOCATION:\, Woolloongabba\, QLD 4102\, QLD\, 4102
RRULE:FREQ=DAILY;INTERVAL=1;UNTIL=20240715T000000Z
END:VEVENT
END:VCALENDAR
