BEGIN:VCALENDAR
VERSION:2.0
PRODID:-//My Community Diary//iCal Event//EN
CALSCALE:GREGORIAN
METHOD:PUBLISH
BEGIN:VEVENT
UID:e9a8f901-bff4-4433-884b-00126afc05ca
DTSTAMP:20260422T000524Z
DTSTART;VALUE=DATE:20261016
DTEND;VALUE=DATE:20261017
SUMMARY:Alice Springs Masters Games
DESCRIPTION:Game on sports fans! \n\nThe longest-running Masters Games in Australia will return to the Red Centre.\n\nThis will be the 19th edition of the Alice Springs Masters Games and they can't wait to host sports enthusiasts in the heart of Australia!
LOCATION:\, Various locations\, Alice Springs\, NT 0870\, NT\, 0870
RRULE:FREQ=DAILY;INTERVAL=1;UNTIL=20261018T000000Z
END:VEVENT
END:VCALENDAR
