BEGIN:VCALENDAR
VERSION:2.0
PRODID:-//My Community Diary//iCal Event//EN
CALSCALE:GREGORIAN
METHOD:PUBLISH
BEGIN:VEVENT
UID:00a80da8-fa92-4978-ae0d-a9a59092ca17
DTSTAMP:20260421T205453Z
DTSTART;VALUE=DATE:20261010
DTEND;VALUE=DATE:20261011
SUMMARY:Alice Springs Masters Games
DESCRIPTION:Game on sports fans! \n\nThe longest-running Masters Games in Australia will return to the Red Centre.\n\nThis will be the 19th edition of the Alice Springs Masters Games and they can't wait to host sports enthusiasts in the heart of Australia!
LOCATION:\, Various locations\, Alice Springs\, NT 0870\, NT\, 0870
RRULE:FREQ=DAILY;INTERVAL=1;UNTIL=20261012T000000Z
END:VEVENT
END:VCALENDAR
