BEGIN:VCALENDAR
VERSION:2.0
PRODID:-//My Community Diary//iCal Event//EN
CALSCALE:GREGORIAN
METHOD:PUBLISH
BEGIN:VEVENT
UID:6b774e1d-e2c6-4050-a97c-82a7b9a0f915
DTSTAMP:20260422T032221Z
DTSTART;VALUE=DATE:20260425
DTEND;VALUE=DATE:20260426
SUMMARY:Sail Port Stephens
DESCRIPTION:Sail Port Stephens is an annual yachting regatta series held in the pristine waters of Port Stephens over April and May. \n\nThe event offers great sailing for all classes of boats plus a vibrant social and entertainment program. It's family-friendly\, affordable and fun!\n\nYou can drive to Port Stephens from Sydney in less than three hours. Alternatively\, fly from Melbourne or Queensland direct to Newcastle Airport. There's a wide range of accommodation available to suit any budget.
LOCATION:\, Teramby Road d'Albora Marina\, Nelson Bay\, NSW 2315\, NSW\, 2315
RRULE:FREQ=DAILY;INTERVAL=1;UNTIL=20260427T000000Z
END:VEVENT
END:VCALENDAR
