BEGIN:VCALENDAR
VERSION:2.0
PRODID:-//My Community Diary//iCal Event//EN
CALSCALE:GREGORIAN
METHOD:PUBLISH
BEGIN:VEVENT
UID:cfccb37b-bf23-4e90-bbe7-8d4c7be7672c
DTSTAMP:20260422T000641Z
DTSTART;VALUE=DATE:20260424
DTEND;VALUE=DATE:20260425
SUMMARY:Sail Port Stephens
DESCRIPTION:Sail Port Stephens is an annual yachting regatta series held in the pristine waters of Port Stephens over April and May. \n\nThe event offers great sailing for all classes of boats plus a vibrant social and entertainment program. It's family-friendly\, affordable and fun!\n\nYou can drive to Port Stephens from Sydney in less than three hours. Alternatively\, fly from Melbourne or Queensland direct to Newcastle Airport. There's a wide range of accommodation available to suit any budget.
LOCATION:\, Teramby Road d'Albora Marina\, Nelson Bay\, NSW 2315\, NSW\, 2315
RRULE:FREQ=DAILY;INTERVAL=1;UNTIL=20260426T000000Z
END:VEVENT
END:VCALENDAR
