BEGIN:VCALENDAR
VERSION:2.0
PRODID:-//My Community Diary//iCal Event//EN
CALSCALE:GREGORIAN
METHOD:PUBLISH
BEGIN:VEVENT
UID:8ef35ff1-4c8d-4cf4-903f-d11060ca79d9
DTSTAMP:20260422T021655Z
DTSTART;VALUE=DATE:20260423
DTEND;VALUE=DATE:20260424
SUMMARY:Brick Envy
DESCRIPTION:Brick Envy offers inclusive and creative building experiences designed specifically for adults aged 18 and over. Regular groups and workshops provide a safe and welcoming space where participants can build\, connect and belong.\n\nSessions invite adults of all abilities to enjoy hands-on building activities\, working independently or alongside others in small\, supportive groups. The focus is on creativity\, communication and confidence-building. Each group encourages imagination\, social connection and a sense of achievement.\n\nBrick Envy is known for its commitment to inclusion. Sessions promote self-expression through building\, while encouraging problem-solving\, teamwork and positive social experiences. All whilst enjoying something to eat and drink.\n\nWhat makes Brick Envy unique is its focus on connection. Groups are not competitive. The emphasis is on creativity\, belonging and shared enjoyment. Every person is welcomed and valued for who they are.\n\nWhether attending for fun\, friendship or personal growth\, participants experience the simple joy of creating in a relaxed and supportive environment. Brick Envy continues to build positive experiences where every brick tells a story and every builder matters.
LOCATION:\, 30 Dobbs Street\, Wagga Wagga\, NSW 2650\, NSW\, 2650
RRULE:FREQ=DAILY;INTERVAL=1;UNTIL=20260425T000000Z
END:VEVENT
END:VCALENDAR
